BEGIN:VCALENDAR
VERSION:2.0
PRODID:-//Hurdle Dynamix - ECPv6.7.1//NONSGML v1.0//EN
CALSCALE:GREGORIAN
METHOD:PUBLISH
X-ORIGINAL-URL:https://hurdledynamix.com
X-WR-CALDESC:Events for Hurdle Dynamix
REFRESH-INTERVAL;VALUE=DURATION:PT1H
X-Robots-Tag:noindex
X-PUBLISHED-TTL:PT1H
BEGIN:VTIMEZONE
TZID:Europe/London
BEGIN:DAYLIGHT
TZOFFSETFROM:+0000
TZOFFSETTO:+0100
TZNAME:BST
DTSTART:20260329T010000
END:DAYLIGHT
BEGIN:STANDARD
TZOFFSETFROM:+0100
TZOFFSETTO:+0000
TZNAME:GMT
DTSTART:20261025T010000
END:STANDARD
END:VTIMEZONE
BEGIN:VEVENT
DTSTART;TZID=Europe/London:20260302T180000
DTEND;TZID=Europe/London:20260302T193000
DTSTAMP:20260420T091254
CREATED:20260103T191651Z
LAST-MODIFIED:20260103T191651Z
UID:10774-1772474400-1772479800@hurdledynamix.com
SUMMARY:Hurdle Dynamix Training Session
DESCRIPTION:Join us for all things hurdling!
URL:https://hurdledynamix.com/event/hurdle-dynamix-training-session-107/
LOCATION:Chelmsford CSAC\, Salerno Way\, Chelmsford\, Essex\, CM1 2EH\, United Kingdom
ORGANIZER;CN="Hurdle Dynamix":MAILTO:info@hurdledynamix.com
END:VEVENT
BEGIN:VEVENT
DTSTART;TZID=Europe/London:20260309T180000
DTEND;TZID=Europe/London:20260309T193000
DTSTAMP:20260420T091254
CREATED:20260103T191741Z
LAST-MODIFIED:20260103T191741Z
UID:10777-1773079200-1773084600@hurdledynamix.com
SUMMARY:Hurdle Dynamix Training Session
DESCRIPTION:Join us for all things hurdling!
URL:https://hurdledynamix.com/event/hurdle-dynamix-training-session-108/
LOCATION:Chelmsford CSAC\, Salerno Way\, Chelmsford\, Essex\, CM1 2EH\, United Kingdom
ORGANIZER;CN="Hurdle Dynamix":MAILTO:info@hurdledynamix.com
END:VEVENT
BEGIN:VEVENT
DTSTART;TZID=Europe/London:20260316T180000
DTEND;TZID=Europe/London:20260316T193000
DTSTAMP:20260420T091254
CREATED:20260103T191832Z
LAST-MODIFIED:20260103T191832Z
UID:10780-1773684000-1773689400@hurdledynamix.com
SUMMARY:Hurdle Dynamix Training Session
DESCRIPTION:Join us for all things hurdling!
URL:https://hurdledynamix.com/event/hurdle-dynamix-training-session-109/
LOCATION:Chelmsford CSAC\, Salerno Way\, Chelmsford\, Essex\, CM1 2EH\, United Kingdom
ORGANIZER;CN="Hurdle Dynamix":MAILTO:info@hurdledynamix.com
END:VEVENT
BEGIN:VEVENT
DTSTART;TZID=Europe/London:20260323T180000
DTEND;TZID=Europe/London:20260323T193000
DTSTAMP:20260420T091254
CREATED:20260103T191936Z
LAST-MODIFIED:20260103T191936Z
UID:10783-1774288800-1774294200@hurdledynamix.com
SUMMARY:Hurdle Dynamix Training Session
DESCRIPTION:Join us for all things hurdling!
URL:https://hurdledynamix.com/event/hurdle-dynamix-training-session-110/
LOCATION:Chelmsford CSAC\, Salerno Way\, Chelmsford\, Essex\, CM1 2EH\, United Kingdom
ORGANIZER;CN="Hurdle Dynamix":MAILTO:info@hurdledynamix.com
END:VEVENT
BEGIN:VEVENT
DTSTART;TZID=Europe/London:20260401T130000
DTEND;TZID=Europe/London:20260401T160000
DTSTAMP:20260420T091254
CREATED:20260310T121137Z
LAST-MODIFIED:20260310T121137Z
UID:10954-1775048400-1775059200@hurdledynamix.com
SUMMARY:Hurdle Dynamix Easter Camp
DESCRIPTION:Come and join us for 3 hours of hurdling fun where we will look at different technical components of sprint and long hurdles.
URL:https://hurdledynamix.com/event/hurdle-dynamix-easter-camp-2/
LOCATION:Chelmsford CSAC\, Salerno Way\, Chelmsford\, Essex\, CM1 2EH\, United Kingdom
ORGANIZER;CN="Hurdle Dynamix":MAILTO:info@hurdledynamix.com
END:VEVENT
BEGIN:VEVENT
DTSTART;TZID=Europe/London:20260413T180000
DTEND;TZID=Europe/London:20260413T193000
DTSTAMP:20260420T091254
CREATED:20260408T195037Z
LAST-MODIFIED:20260408T195037Z
UID:10993-1776103200-1776108600@hurdledynamix.com
SUMMARY:Hurdle Dynamix Training Session
DESCRIPTION:Join us for all things hurdling!
URL:https://hurdledynamix.com/event/hurdle-dynamix-training-session-111/
LOCATION:Chelmsford CSAC\, Salerno Way\, Chelmsford\, Essex\, CM1 2EH\, United Kingdom
ORGANIZER;CN="Hurdle Dynamix":MAILTO:info@hurdledynamix.com
END:VEVENT
BEGIN:VEVENT
DTSTART;TZID=Europe/London:20260413T180000
DTEND;TZID=Europe/London:20260413T193000
DTSTAMP:20260420T091254
CREATED:20260408T195305Z
LAST-MODIFIED:20260412T174536Z
UID:10996-1776103200-1776108600@hurdledynamix.com
SUMMARY:Hurdle Dynamix Training Session - 14 week block booking
DESCRIPTION:Join us for all things hurdling! \nSessions from April 13th to July 27th (excluding 4th and 25th May)
URL:https://hurdledynamix.com/event/hurdle-dynamix-14-week-block-training-session/
LOCATION:Chelmsford CSAC\, Salerno Way\, Chelmsford\, Essex\, CM1 2EH\, United Kingdom
ORGANIZER;CN="Hurdle Dynamix":MAILTO:info@hurdledynamix.com
END:VEVENT
BEGIN:VEVENT
DTSTART;TZID=Europe/London:20260420T180000
DTEND;TZID=Europe/London:20260420T210000
DTSTAMP:20260420T091254
CREATED:20260408T195904Z
LAST-MODIFIED:20260412T173604Z
UID:11000-1776708000-1776718800@hurdledynamix.com
SUMMARY:Hurdle Dynamix Training session
DESCRIPTION:Join us for all things hurdling!
URL:https://hurdledynamix.com/event/hurdle-dynamix-training-session-112/
LOCATION:Chelmsford CSAC\, Salerno Way\, Chelmsford\, Essex\, CM1 2EH\, United Kingdom
ORGANIZER;CN="Hurdle Dynamix":MAILTO:info@hurdledynamix.com
END:VEVENT
BEGIN:VEVENT
DTSTART;TZID=Europe/London:20260427T180000
DTEND;TZID=Europe/London:20260427T193000
DTSTAMP:20260420T091254
CREATED:20260412T172725Z
LAST-MODIFIED:20260412T172725Z
UID:11005-1777312800-1777318200@hurdledynamix.com
SUMMARY:Hurdle Dynamix Training Session
DESCRIPTION:Join us for all things hurdling!
URL:https://hurdledynamix.com/event/hurdle-dynamix-training-session-113/
LOCATION:Chelmsford CSAC\, Salerno Way\, Chelmsford\, Essex\, CM1 2EH\, United Kingdom
ORGANIZER;CN="Hurdle Dynamix":MAILTO:info@hurdledynamix.com
END:VEVENT
BEGIN:VEVENT
DTSTART;TZID=Europe/London:20260504T180000
DTEND;TZID=Europe/London:20260504T193000
DTSTAMP:20260420T091254
CREATED:20260412T173032Z
LAST-MODIFIED:20260412T173032Z
UID:11011-1777917600-1777923000@hurdledynamix.com
SUMMARY:No Session - May Bank Holiday
DESCRIPTION:
URL:https://hurdledynamix.com/event/no-session-may-bank-holiday/
LOCATION:Chelmsford CSAC\, Salerno Way\, Chelmsford\, Essex\, CM1 2EH\, United Kingdom
ORGANIZER;CN="Hurdle Dynamix":MAILTO:info@hurdledynamix.com
END:VEVENT
BEGIN:VEVENT
DTSTART;TZID=Europe/London:20260511T180000
DTEND;TZID=Europe/London:20260511T193000
DTSTAMP:20260420T091254
CREATED:20260412T172931Z
LAST-MODIFIED:20260412T172931Z
UID:11008-1778522400-1778527800@hurdledynamix.com
SUMMARY:Hurdle Dynamix Training Session
DESCRIPTION:Join us for all things hurdling!
URL:https://hurdledynamix.com/event/hurdle-dynamix-training-session-114/
LOCATION:Chelmsford CSAC\, Salerno Way\, Chelmsford\, Essex\, CM1 2EH\, United Kingdom
ORGANIZER;CN="Hurdle Dynamix":MAILTO:info@hurdledynamix.com
END:VEVENT
BEGIN:VEVENT
DTSTART;TZID=Europe/London:20260518T180000
DTEND;TZID=Europe/London:20260518T193000
DTSTAMP:20260420T091254
CREATED:20260412T173528Z
LAST-MODIFIED:20260412T173528Z
UID:11018-1779127200-1779132600@hurdledynamix.com
SUMMARY:Hurdle Dynamix Training Session
DESCRIPTION:Join us for all things hurdling!
URL:https://hurdledynamix.com/event/hurdle-dynamix-training-session-116/
LOCATION:Chelmsford CSAC\, Salerno Way\, Chelmsford\, Essex\, CM1 2EH\, United Kingdom
ORGANIZER;CN="Hurdle Dynamix":MAILTO:info@hurdledynamix.com
END:VEVENT
BEGIN:VEVENT
DTSTART;TZID=Europe/London:20260525T180000
DTEND;TZID=Europe/London:20260525T193000
DTSTAMP:20260420T091254
CREATED:20260412T173210Z
LAST-MODIFIED:20260412T173210Z
UID:11013-1779732000-1779737400@hurdledynamix.com
SUMMARY:No Session - May Bank Holiday
DESCRIPTION:
URL:https://hurdledynamix.com/event/no-session-may-bank-holiday-2/
LOCATION:Chelmsford CSAC\, Salerno Way\, Chelmsford\, Essex\, CM1 2EH\, United Kingdom
ORGANIZER;CN="Hurdle Dynamix":MAILTO:info@hurdledynamix.com
END:VEVENT
BEGIN:VEVENT
DTSTART;TZID=Europe/London:20260601T180000
DTEND;TZID=Europe/London:20260601T193000
DTSTAMP:20260420T091254
CREATED:20260412T173345Z
LAST-MODIFIED:20260412T173648Z
UID:11015-1780336800-1780342200@hurdledynamix.com
SUMMARY:Hurdle Dynamix Training Session
DESCRIPTION:Join us for all things hurdling!
URL:https://hurdledynamix.com/event/hurdle-dynamix-training-session-115/
LOCATION:Chelmsford CSAC\, Salerno Way\, Chelmsford\, Essex\, CM1 2EH\, United Kingdom
ORGANIZER;CN="Hurdle Dynamix":MAILTO:info@hurdledynamix.com
END:VEVENT
BEGIN:VEVENT
DTSTART;TZID=Europe/London:20260608T180000
DTEND;TZID=Europe/London:20260608T193000
DTSTAMP:20260420T091254
CREATED:20260412T173830Z
LAST-MODIFIED:20260412T173830Z
UID:11022-1780941600-1780947000@hurdledynamix.com
SUMMARY:Hurdle Dynamix Training Session
DESCRIPTION:Join us for all things hurdling!
URL:https://hurdledynamix.com/event/hurdle-dynamix-training-session-117/
LOCATION:Chelmsford CSAC\, Salerno Way\, Chelmsford\, Essex\, CM1 2EH\, United Kingdom
ORGANIZER;CN="Hurdle Dynamix":MAILTO:info@hurdledynamix.com
END:VEVENT
BEGIN:VEVENT
DTSTART;TZID=Europe/London:20260615T180000
DTEND;TZID=Europe/London:20260615T193000
DTSTAMP:20260420T091254
CREATED:20260412T173958Z
LAST-MODIFIED:20260412T173958Z
UID:11025-1781546400-1781551800@hurdledynamix.com
SUMMARY:Hurdle Dynamix Training Session
DESCRIPTION:Join us for all things hurdling!
URL:https://hurdledynamix.com/event/hurdle-dynamix-training-session-118/
LOCATION:Chelmsford CSAC\, Salerno Way\, Chelmsford\, Essex\, CM1 2EH\, United Kingdom
ORGANIZER;CN="Hurdle Dynamix":MAILTO:info@hurdledynamix.com
END:VEVENT
BEGIN:VEVENT
DTSTART;TZID=Europe/London:20260622T180000
DTEND;TZID=Europe/London:20260622T193000
DTSTAMP:20260420T091254
CREATED:20260412T174418Z
LAST-MODIFIED:20260412T174418Z
UID:11028-1782151200-1782156600@hurdledynamix.com
SUMMARY:Hurdle Dynamix Training Session
DESCRIPTION:Join us for all things hurdling!
URL:https://hurdledynamix.com/event/hurdle-dynamix-training-session-119/
LOCATION:Chelmsford CSAC\, Salerno Way\, Chelmsford\, Essex\, CM1 2EH\, United Kingdom
ORGANIZER;CN="Hurdle Dynamix":MAILTO:info@hurdledynamix.com
END:VEVENT
BEGIN:VEVENT
DTSTART;TZID=Europe/London:20260629T180000
DTEND;TZID=Europe/London:20260629T193000
DTSTAMP:20260420T091254
CREATED:20260412T174736Z
LAST-MODIFIED:20260412T174737Z
UID:11032-1782756000-1782761400@hurdledynamix.com
SUMMARY:Hurdle Dynamix Training Session
DESCRIPTION:Join us for all things hurdling!
URL:https://hurdledynamix.com/event/hurdle-dynamix-training-session-120/
LOCATION:Chelmsford CSAC\, Salerno Way\, Chelmsford\, Essex\, CM1 2EH\, United Kingdom
ORGANIZER;CN="Hurdle Dynamix":MAILTO:info@hurdledynamix.com
END:VEVENT
BEGIN:VEVENT
DTSTART;TZID=Europe/London:20260706T180000
DTEND;TZID=Europe/London:20260706T193000
DTSTAMP:20260420T091254
CREATED:20260412T174925Z
LAST-MODIFIED:20260412T174925Z
UID:11035-1783360800-1783366200@hurdledynamix.com
SUMMARY:Hurdle Dynamix Training Session
DESCRIPTION:Join us for all things hurdling!
URL:https://hurdledynamix.com/event/hurdle-dynamix-training-session-121/
LOCATION:Chelmsford CSAC\, Salerno Way\, Chelmsford\, Essex\, CM1 2EH\, United Kingdom
ORGANIZER;CN="Hurdle Dynamix":MAILTO:info@hurdledynamix.com
END:VEVENT
BEGIN:VEVENT
DTSTART;TZID=Europe/London:20260713T180000
DTEND;TZID=Europe/London:20260713T193000
DTSTAMP:20260420T091254
CREATED:20260415T163926Z
LAST-MODIFIED:20260415T163926Z
UID:11050-1783965600-1783971000@hurdledynamix.com
SUMMARY:Hurdle Dynamix Training Session
DESCRIPTION:Join us for all things hurdling!
URL:https://hurdledynamix.com/event/hurdle-dynamix-training-session-122/
LOCATION:Chelmsford CSAC\, Salerno Way\, Chelmsford\, Essex\, CM1 2EH\, United Kingdom
ORGANIZER;CN="Hurdle Dynamix":MAILTO:info@hurdledynamix.com
END:VEVENT
BEGIN:VEVENT
DTSTART;TZID=Europe/London:20260720T180000
DTEND;TZID=Europe/London:20260720T193000
DTSTAMP:20260420T091254
CREATED:20260415T164056Z
LAST-MODIFIED:20260415T164056Z
UID:11053-1784570400-1784575800@hurdledynamix.com
SUMMARY:Hurdle Dynamix Training Session
DESCRIPTION:Join us for all things hurdling!
URL:https://hurdledynamix.com/event/hurdle-dynamix-training-session-123/
LOCATION:Chelmsford CSAC\, Salerno Way\, Chelmsford\, Essex\, CM1 2EH\, United Kingdom
ORGANIZER;CN="Hurdle Dynamix":MAILTO:info@hurdledynamix.com
END:VEVENT
BEGIN:VEVENT
DTSTART;TZID=Europe/London:20260727T180000
DTEND;TZID=Europe/London:20260727T193000
DTSTAMP:20260420T091254
CREATED:20260415T164317Z
LAST-MODIFIED:20260415T164317Z
UID:11056-1785175200-1785180600@hurdledynamix.com
SUMMARY:Hurdle Dynamix Training Session
DESCRIPTION:Join us for all things hurdling!
URL:https://hurdledynamix.com/event/hurdle-dynamix-training-session-124/
LOCATION:Chelmsford CSAC\, Salerno Way\, Chelmsford\, Essex\, CM1 2EH\, United Kingdom
ORGANIZER;CN="Hurdle Dynamix":MAILTO:info@hurdledynamix.com
END:VEVENT
END:VCALENDAR