BEGIN:VCALENDAR
VERSION:2.0
PRODID:-//Hurdle Dynamix - ECPv6.7.1//NONSGML v1.0//EN
CALSCALE:GREGORIAN
METHOD:PUBLISH
X-WR-CALNAME:Hurdle Dynamix
X-ORIGINAL-URL:https://hurdledynamix.com
X-WR-CALDESC:Events for Hurdle Dynamix
REFRESH-INTERVAL;VALUE=DURATION:PT1H
X-Robots-Tag:noindex
X-PUBLISHED-TTL:PT1H
BEGIN:VTIMEZONE
TZID:UTC
BEGIN:STANDARD
TZOFFSETFROM:+0000
TZOFFSETTO:+0000
TZNAME:UTC
DTSTART:20230101T000000
END:STANDARD
END:VTIMEZONE
BEGIN:VEVENT
DTSTART;TZID=UTC:20231030T180000
DTEND;TZID=UTC:20231030T193000
DTSTAMP:20260421T035944
CREATED:20231025T134204Z
LAST-MODIFIED:20231025T134204Z
UID:9310-1698688800-1698694200@hurdledynamix.com
SUMMARY:Hurdle Dynamix Training Session
DESCRIPTION:Join us for technical sessions\, focusing on different components of hurdling.
URL:https://hurdledynamix.com/event/hurdle-dynamix-training-session-32/
LOCATION:Chelmsford CSAC\, Salerno Way\, Chelmsford\, Essex\, CM1 2EH\, United Kingdom
ORGANIZER;CN="Hurdle Dynamix":MAILTO:info@hurdledynamix.com
END:VEVENT
BEGIN:VEVENT
DTSTART;TZID=UTC:20231023T140000
DTEND;TZID=UTC:20231023T153000
DTSTAMP:20260421T035944
CREATED:20231017T054330Z
LAST-MODIFIED:20231017T054330Z
UID:9294-1698069600-1698075000@hurdledynamix.com
SUMMARY:Hurdle Dynamix Training Session
DESCRIPTION:Join us for technical sessions\, focusing on different components of hurdling.
URL:https://hurdledynamix.com/event/hurdle-dynamix-training-session-31/
LOCATION:Chelmsford CSAC\, Salerno Way\, Chelmsford\, Essex\, CM1 2EH\, United Kingdom
ORGANIZER;CN="Hurdle Dynamix":MAILTO:info@hurdledynamix.com
END:VEVENT
BEGIN:VEVENT
DTSTART;TZID=UTC:20231016T180000
DTEND;TZID=UTC:20231016T193000
DTSTAMP:20260421T035944
CREATED:20230909T082227Z
LAST-MODIFIED:20230909T082227Z
UID:9247-1697479200-1697484600@hurdledynamix.com
SUMMARY:Hurdle Dynamix Training Session
DESCRIPTION:Join us for technical sessions\, focusing on different components of hurdling.
URL:https://hurdledynamix.com/event/hurdle-dynamix-training-session-30/
LOCATION:Chelmsford CSAC\, Salerno Way\, Chelmsford\, Essex\, CM1 2EH\, United Kingdom
ORGANIZER;CN="Hurdle Dynamix":MAILTO:info@hurdledynamix.com
END:VEVENT
BEGIN:VEVENT
DTSTART;TZID=UTC:20231009T180000
DTEND;TZID=UTC:20231009T193000
DTSTAMP:20260421T035944
CREATED:20230909T082053Z
LAST-MODIFIED:20230909T082053Z
UID:9243-1696874400-1696879800@hurdledynamix.com
SUMMARY:Hurdle Dynamix Training Session
DESCRIPTION:Join us for technical sessions\, focusing on different components of hurdling.
URL:https://hurdledynamix.com/event/hurdle-dynamix-training-session-29/
LOCATION:Chelmsford CSAC\, Salerno Way\, Chelmsford\, Essex\, CM1 2EH\, United Kingdom
ORGANIZER;CN="Hurdle Dynamix":MAILTO:info@hurdledynamix.com
END:VEVENT
BEGIN:VEVENT
DTSTART;TZID=UTC:20231002T180000
DTEND;TZID=UTC:20231002T193000
DTSTAMP:20260421T035944
CREATED:20230909T081752Z
LAST-MODIFIED:20230909T081752Z
UID:9240-1696269600-1696275000@hurdledynamix.com
SUMMARY:Hurdle Dynamix Training Session
DESCRIPTION:Join us for technical sessions\, focusing on different components of hurdling.
URL:https://hurdledynamix.com/event/hurdle-dynamix-training-session-28/
LOCATION:Chelmsford CSAC\, Salerno Way\, Chelmsford\, Essex\, CM1 2EH\, United Kingdom
ORGANIZER;CN="Hurdle Dynamix":MAILTO:info@hurdledynamix.com
END:VEVENT
BEGIN:VEVENT
DTSTART;TZID=UTC:20230925T180000
DTEND;TZID=UTC:20230925T193000
DTSTAMP:20260421T035944
CREATED:20230909T081506Z
LAST-MODIFIED:20230909T081506Z
UID:9237-1695664800-1695670200@hurdledynamix.com
SUMMARY:Hurdle Dynamix Training Session
DESCRIPTION:Join us for technical sessions\, focusing on different components of hurdling.
URL:https://hurdledynamix.com/event/hurdle-dynamix-training-session-27/
LOCATION:Chelmsford CSAC\, Salerno Way\, Chelmsford\, Essex\, CM1 2EH\, United Kingdom
ORGANIZER;CN="Hurdle Dynamix":MAILTO:info@hurdledynamix.com
END:VEVENT
BEGIN:VEVENT
DTSTART;TZID=UTC:20230918T180000
DTEND;TZID=UTC:20230918T193000
DTSTAMP:20260421T035944
CREATED:20230914T075228Z
LAST-MODIFIED:20230914T075228Z
UID:9262-1695060000-1695065400@hurdledynamix.com
SUMMARY:Hurdle Dynamix 5 week training block
DESCRIPTION:
URL:https://hurdledynamix.com/event/hurdle-dynamix-5-week-training-block-3/
LOCATION:Chelmsford CSAC\, Salerno Way\, Chelmsford\, Essex\, CM1 2EH\, United Kingdom
ORGANIZER;CN="Hurdle Dynamix":MAILTO:info@hurdledynamix.com
END:VEVENT
BEGIN:VEVENT
DTSTART;TZID=UTC:20230918T180000
DTEND;TZID=UTC:20230918T193000
DTSTAMP:20260421T035944
CREATED:20230909T081351Z
LAST-MODIFIED:20230909T081351Z
UID:9234-1695060000-1695065400@hurdledynamix.com
SUMMARY:Hurdle Dynamix Training Session
DESCRIPTION:Join us for technical sessions\, focusing on different components of hurdling.
URL:https://hurdledynamix.com/event/hurdle-dynamix-training-session-26/
LOCATION:Chelmsford CSAC\, Salerno Way\, Chelmsford\, Essex\, CM1 2EH\, United Kingdom
ORGANIZER;CN="Hurdle Dynamix":MAILTO:info@hurdledynamix.com
END:VEVENT
BEGIN:VEVENT
DTSTART;TZID=UTC:20230911T180000
DTEND;TZID=UTC:20230911T193000
DTSTAMP:20260421T035944
CREATED:20230909T081202Z
LAST-MODIFIED:20230909T081202Z
UID:9231-1694455200-1694460600@hurdledynamix.com
SUMMARY:Hurdle Dynamix 6 week Training Session Block Booking
DESCRIPTION:Join us for technical sessions\, focusing on different components of hurdling.
URL:https://hurdledynamix.com/event/hurdle-dynamix-6-week-training-session-block-booking/
LOCATION:Chelmsford CSAC\, Salerno Way\, Chelmsford\, Essex\, CM1 2EH\, United Kingdom
ORGANIZER;CN="Hurdle Dynamix":MAILTO:info@hurdledynamix.com
END:VEVENT
BEGIN:VEVENT
DTSTART;TZID=UTC:20230911T180000
DTEND;TZID=UTC:20230911T193000
DTSTAMP:20260421T035944
CREATED:20230909T074015Z
LAST-MODIFIED:20230909T074015Z
UID:9227-1694455200-1694460600@hurdledynamix.com
SUMMARY:Hurdle Dynamix Training Session
DESCRIPTION:Join us for technical sessions\, focusing on different components of hurdling.
URL:https://hurdledynamix.com/event/hurdle-dynamix-training-session-25/
LOCATION:Chelmsford CSAC\, Salerno Way\, Chelmsford\, Essex\, CM1 2EH\, United Kingdom
ORGANIZER;CN="Hurdle Dynamix":MAILTO:info@hurdledynamix.com
END:VEVENT
BEGIN:VEVENT
DTSTART;TZID=UTC:20230731T180000
DTEND;TZID=UTC:20230731T193000
DTSTAMP:20260421T035944
CREATED:20230717T075121Z
LAST-MODIFIED:20230717T075121Z
UID:9217-1690826400-1690831800@hurdledynamix.com
SUMMARY:Hurdle Dynamix Training Session
DESCRIPTION:Join us for technical sessions\, focusing on different components of hurdling.
URL:https://hurdledynamix.com/event/hurdle-dynamix-training-session-24/
LOCATION:Chelmsford CSAC\, Salerno Way\, Chelmsford\, Essex\, CM1 2EH\, United Kingdom
ORGANIZER;CN="Hurdle Dynamix":MAILTO:info@hurdledynamix.com
END:VEVENT
BEGIN:VEVENT
DTSTART;TZID=UTC:20230724T180000
DTEND;TZID=UTC:20230724T193000
DTSTAMP:20260421T035944
CREATED:20230717T074830Z
LAST-MODIFIED:20230717T074830Z
UID:9214-1690221600-1690227000@hurdledynamix.com
SUMMARY:Hurdle Dynamix Training Session - No Session
DESCRIPTION:
URL:https://hurdledynamix.com/event/hurdle-dynamix-training-session-no-session/
LOCATION:Chelmsford CSAC\, Salerno Way\, Chelmsford\, Essex\, CM1 2EH\, United Kingdom
ORGANIZER;CN="Hurdle Dynamix":MAILTO:info@hurdledynamix.com
END:VEVENT
BEGIN:VEVENT
DTSTART;TZID=UTC:20230717T180000
DTEND;TZID=UTC:20230717T193000
DTSTAMP:20260421T035944
CREATED:20230601T185442Z
LAST-MODIFIED:20230601T185442Z
UID:9185-1689616800-1689622200@hurdledynamix.com
SUMMARY:Hurdle Dynamix Training Session
DESCRIPTION:Join us for technical sessions\, focusing on different components of hurdling.
URL:https://hurdledynamix.com/event/hurdle-dynamix-training-session-23/
LOCATION:Chelmsford CSAC\, Salerno Way\, Chelmsford\, Essex\, CM1 2EH\, United Kingdom
ORGANIZER;CN="Hurdle Dynamix":MAILTO:info@hurdledynamix.com
END:VEVENT
BEGIN:VEVENT
DTSTART;TZID=UTC:20230710T180000
DTEND;TZID=UTC:20230710T193000
DTSTAMP:20260421T035944
CREATED:20230601T185223Z
LAST-MODIFIED:20230601T185223Z
UID:9182-1689012000-1689017400@hurdledynamix.com
SUMMARY:Hurdle Dynamix Training Session
DESCRIPTION:Join us for technical sessions\, focusing on different components of hurdling.
URL:https://hurdledynamix.com/event/hurdle-dynamix-training-session-22/
LOCATION:Chelmsford CSAC\, Salerno Way\, Chelmsford\, Essex\, CM1 2EH\, United Kingdom
ORGANIZER;CN="Hurdle Dynamix":MAILTO:info@hurdledynamix.com
END:VEVENT
BEGIN:VEVENT
DTSTART;TZID=UTC:20230703T180000
DTEND;TZID=UTC:20230703T193000
DTSTAMP:20260421T035944
CREATED:20230601T184928Z
LAST-MODIFIED:20230601T184928Z
UID:9179-1688407200-1688412600@hurdledynamix.com
SUMMARY:Hurdle Dynamix Training Session
DESCRIPTION:Join us for technical sessions\, focusing on different components of hurdling.
URL:https://hurdledynamix.com/event/hurdle-dynamix-training-session-21/
LOCATION:Chelmsford CSAC\, Salerno Way\, Chelmsford\, Essex\, CM1 2EH\, United Kingdom
ORGANIZER;CN="Hurdle Dynamix":MAILTO:info@hurdledynamix.com
END:VEVENT
BEGIN:VEVENT
DTSTART;TZID=UTC:20230626T180000
DTEND;TZID=UTC:20230626T193000
DTSTAMP:20260421T035944
CREATED:20230601T184558Z
LAST-MODIFIED:20230626T074448Z
UID:9176-1687802400-1687807800@hurdledynamix.com
SUMMARY:Hurdle Dynamix Training Session - SESSION CANCELLED DUE TO SICKNESS
DESCRIPTION:Join us for technical sessions\, focusing on different components of hurdling.
URL:https://hurdledynamix.com/event/hurdle-dynamix-training-session-20/
LOCATION:Chelmsford CSAC\, Salerno Way\, Chelmsford\, Essex\, CM1 2EH\, United Kingdom
ORGANIZER;CN="Hurdle Dynamix":MAILTO:info@hurdledynamix.com
END:VEVENT
BEGIN:VEVENT
DTSTART;TZID=UTC:20230619T180000
DTEND;TZID=UTC:20230619T193000
DTSTAMP:20260421T035944
CREATED:20230601T184422Z
LAST-MODIFIED:20230601T184422Z
UID:9173-1687197600-1687203000@hurdledynamix.com
SUMMARY:Hurdle Dynamix Training Session
DESCRIPTION:Join us for technical sessions\, focusing on different components of hurdling.
URL:https://hurdledynamix.com/event/hurdle-dynamix-training-session-19/
LOCATION:Chelmsford CSAC\, Salerno Way\, Chelmsford\, Essex\, CM1 2EH\, United Kingdom
ORGANIZER;CN="Hurdle Dynamix":MAILTO:info@hurdledynamix.com
END:VEVENT
BEGIN:VEVENT
DTSTART;TZID=UTC:20230612T180000
DTEND;TZID=UTC:20230612T193000
DTSTAMP:20260421T035944
CREATED:20230601T184229Z
LAST-MODIFIED:20230601T184229Z
UID:9170-1686592800-1686598200@hurdledynamix.com
SUMMARY:Hurdle Dynamix Training Session
DESCRIPTION:Join us for technical sessions\, focusing on different components of hurdling.
URL:https://hurdledynamix.com/event/hurdle-dynamix-training-session-18/
LOCATION:Chelmsford CSAC\, Salerno Way\, Chelmsford\, Essex\, CM1 2EH\, United Kingdom
ORGANIZER;CN="Hurdle Dynamix":MAILTO:info@hurdledynamix.com
END:VEVENT
BEGIN:VEVENT
DTSTART;TZID=UTC:20230605T180000
DTEND;TZID=UTC:20230605T193000
DTSTAMP:20260421T035944
CREATED:20230601T183935Z
LAST-MODIFIED:20230601T183935Z
UID:9167-1685988000-1685993400@hurdledynamix.com
SUMMARY:Hurdle Dynamix 7 week block training sessions
DESCRIPTION:Join us for technical sessions\, focusing on different components of hurdling.
URL:https://hurdledynamix.com/event/hurdle-dynamix-7-week-block-training-sessions/
LOCATION:Chelmsford CSAC\, Salerno Way\, Chelmsford\, Essex\, CM1 2EH\, United Kingdom
ORGANIZER;CN="Hurdle Dynamix":MAILTO:info@hurdledynamix.com
END:VEVENT
BEGIN:VEVENT
DTSTART;TZID=UTC:20230605T180000
DTEND;TZID=UTC:20230605T193000
DTSTAMP:20260421T035944
CREATED:20230601T183557Z
LAST-MODIFIED:20230601T183557Z
UID:9164-1685988000-1685993400@hurdledynamix.com
SUMMARY:Hurdle Dynamix Training Session
DESCRIPTION:Join us for technical sessions\, focusing on different components of hurdling.
URL:https://hurdledynamix.com/event/hurdle-dynamix-training-session-17/
LOCATION:Chelmsford CSAC\, Salerno Way\, Chelmsford\, Essex\, CM1 2EH\, United Kingdom
ORGANIZER;CN="Hurdle Dynamix":MAILTO:info@hurdledynamix.com
END:VEVENT
BEGIN:VEVENT
DTSTART;TZID=UTC:20230522T180000
DTEND;TZID=UTC:20230522T193000
DTSTAMP:20260421T035944
CREATED:20230413T053519Z
LAST-MODIFIED:20230413T053519Z
UID:9137-1684778400-1684783800@hurdledynamix.com
SUMMARY:Hurdle Dynamix Training Session
DESCRIPTION:Join us for technical sessions\, focusing on different components of hurdling.
URL:https://hurdledynamix.com/event/hurdle-dynamix-training-session-16/
LOCATION:Chelmsford CSAC\, Salerno Way\, Chelmsford\, Essex\, CM1 2EH\, United Kingdom
ORGANIZER;CN="Hurdle Dynamix":MAILTO:info@hurdledynamix.com
END:VEVENT
BEGIN:VEVENT
DTSTART;TZID=UTC:20230515T180000
DTEND;TZID=UTC:20230515T193000
DTSTAMP:20260421T035944
CREATED:20230413T053335Z
LAST-MODIFIED:20230413T053335Z
UID:9134-1684173600-1684179000@hurdledynamix.com
SUMMARY:Hurdle Dynamix Training Session
DESCRIPTION:Join us for technical sessions\, focusing on different components of hurdling.
URL:https://hurdledynamix.com/event/hurdle-dynamix-training-session-15/
LOCATION:Chelmsford CSAC\, Salerno Way\, Chelmsford\, Essex\, CM1 2EH\, United Kingdom
ORGANIZER;CN="Hurdle Dynamix":MAILTO:info@hurdledynamix.com
END:VEVENT
BEGIN:VEVENT
DTSTART;TZID=UTC:20230424T180000
DTEND;TZID=UTC:20230424T193000
DTSTAMP:20260421T035944
CREATED:20230413T053124Z
LAST-MODIFIED:20230413T053124Z
UID:9131-1682359200-1682364600@hurdledynamix.com
SUMMARY:Hurdle Dynamix Training Session
DESCRIPTION:Join us for technical sessions\, focusing on different components of hurdling.
URL:https://hurdledynamix.com/event/hurdle-dynamix-training-session-14/
LOCATION:Chelmsford CSAC\, Salerno Way\, Chelmsford\, Essex\, CM1 2EH\, United Kingdom
ORGANIZER;CN="Hurdle Dynamix":MAILTO:info@hurdledynamix.com
END:VEVENT
BEGIN:VEVENT
DTSTART;TZID=UTC:20230417T180000
DTEND;TZID=UTC:20230417T193000
DTSTAMP:20260421T035944
CREATED:20230413T052859Z
LAST-MODIFIED:20230413T060158Z
UID:9128-1681754400-1681759800@hurdledynamix.com
SUMMARY:Hurdle Dynamix Training Session - Block Booking
DESCRIPTION:Join us for technical sessions\, focusing on different components of hurdling. \nThis booking is for the full course\, sadly we have the May Bank Holidays so facilities are closed\, making this course just 4 sessions (17/4\, 24/4\, 15/5\, 22/5).
URL:https://hurdledynamix.com/event/hurdle-dynamix-training-session-block-booking/
LOCATION:Chelmsford CSAC\, Salerno Way\, Chelmsford\, Essex\, CM1 2EH\, United Kingdom
ORGANIZER;CN="Hurdle Dynamix":MAILTO:info@hurdledynamix.com
END:VEVENT
BEGIN:VEVENT
DTSTART;TZID=UTC:20230417T180000
DTEND;TZID=UTC:20230417T193000
DTSTAMP:20260421T035944
CREATED:20230413T052256Z
LAST-MODIFIED:20230413T052256Z
UID:9125-1681754400-1681759800@hurdledynamix.com
SUMMARY:Hurdle Dynamix Training Session
DESCRIPTION:Join us for technical sessions\, focusing on different components of hurdling.
URL:https://hurdledynamix.com/event/hurdle-dynamix-training-session-13/
LOCATION:Chelmsford CSAC\, Salerno Way\, Chelmsford\, Essex\, CM1 2EH\, United Kingdom
ORGANIZER;CN="Hurdle Dynamix":MAILTO:info@hurdledynamix.com
END:VEVENT
BEGIN:VEVENT
DTSTART;TZID=UTC:20230327T180000
DTEND;TZID=UTC:20230327T193000
DTSTAMP:20260421T035944
CREATED:20230218T212716Z
LAST-MODIFIED:20230218T212716Z
UID:9097-1679940000-1679945400@hurdledynamix.com
SUMMARY:Hurdle Dynamix Training Session
DESCRIPTION:Join us for technical sessions\, focusing on different components of hurdling. \nMonday 20th February – Monday 27th March \n 
URL:https://hurdledynamix.com/event/hurdle-dynamix-training-session-12/
LOCATION:Chelmsford CSAC\, Salerno Way\, Chelmsford\, Essex\, CM1 2EH\, United Kingdom
ORGANIZER;CN="Hurdle Dynamix":MAILTO:info@hurdledynamix.com
END:VEVENT
BEGIN:VEVENT
DTSTART;TZID=UTC:20230313T180000
DTEND;TZID=UTC:20230313T193000
DTSTAMP:20260421T035944
CREATED:20230218T212549Z
LAST-MODIFIED:20230218T212549Z
UID:9094-1678730400-1678735800@hurdledynamix.com
SUMMARY:Hurdle Dynamix Training Session
DESCRIPTION:Join us for technical sessions\, focusing on different components of hurdling. \nMonday 20th February – Monday 27th March \nN.B. No session Monday 20th March 
URL:https://hurdledynamix.com/event/hurdle-dynamix-training-session-11/
LOCATION:Chelmsford CSAC\, Salerno Way\, Chelmsford\, Essex\, CM1 2EH\, United Kingdom
ORGANIZER;CN="Hurdle Dynamix":MAILTO:info@hurdledynamix.com
END:VEVENT
BEGIN:VEVENT
DTSTART;TZID=UTC:20230306T180000
DTEND;TZID=UTC:20230306T193000
DTSTAMP:20260421T035944
CREATED:20230218T212207Z
LAST-MODIFIED:20230218T212207Z
UID:9091-1678125600-1678131000@hurdledynamix.com
SUMMARY:Hurdle Dynamix Training Session
DESCRIPTION:Join us for technical sessions\, focusing on different components of hurdling. \nMonday 20th February – Monday 27th March \nN.B. No session Monday 20th March 
URL:https://hurdledynamix.com/event/hurdle-dynamix-training-session-10/
LOCATION:Chelmsford CSAC\, Salerno Way\, Chelmsford\, Essex\, CM1 2EH\, United Kingdom
ORGANIZER;CN="Hurdle Dynamix":MAILTO:info@hurdledynamix.com
END:VEVENT
BEGIN:VEVENT
DTSTART;TZID=UTC:20230227T180000
DTEND;TZID=UTC:20230227T193000
DTSTAMP:20260421T035944
CREATED:20230218T212037Z
LAST-MODIFIED:20230218T212037Z
UID:9088-1677520800-1677526200@hurdledynamix.com
SUMMARY:Hurdle Dynamix Training Session
DESCRIPTION:Join us for technical sessions\, focusing on different components of hurdling. \nMonday 20th February – Monday 27th March \nN.B. No session Monday 20th March 
URL:https://hurdledynamix.com/event/hurdle-dynamix-training-session-9/
LOCATION:Chelmsford CSAC\, Salerno Way\, Chelmsford\, Essex\, CM1 2EH\, United Kingdom
ORGANIZER;CN="Hurdle Dynamix":MAILTO:info@hurdledynamix.com
END:VEVENT
BEGIN:VEVENT
DTSTART;TZID=UTC:20230220T180000
DTEND;TZID=UTC:20230220T193000
DTSTAMP:20260421T035944
CREATED:20230218T211909Z
LAST-MODIFIED:20230218T211909Z
UID:9085-1676916000-1676921400@hurdledynamix.com
SUMMARY:Hurdle Dynamix Training Session
DESCRIPTION:Join us for technical sessions\, focusing on different components of hurdling. \nMonday 20th February – Monday 27th March \nN.B. No session Monday 20th March 
URL:https://hurdledynamix.com/event/hurdle-dynamix-training-session-8/
LOCATION:Chelmsford CSAC\, Salerno Way\, Chelmsford\, Essex\, CM1 2EH\, United Kingdom
ORGANIZER;CN="Hurdle Dynamix":MAILTO:info@hurdledynamix.com
END:VEVENT
END:VCALENDAR