BEGIN:VCALENDAR
VERSION:2.0
PRODID:-//Hurdle Dynamix - ECPv6.7.1//NONSGML v1.0//EN
CALSCALE:GREGORIAN
METHOD:PUBLISH
X-WR-CALNAME:Hurdle Dynamix
X-ORIGINAL-URL:https://hurdledynamix.com
X-WR-CALDESC:Events for Hurdle Dynamix
REFRESH-INTERVAL;VALUE=DURATION:PT1H
X-Robots-Tag:noindex
X-PUBLISHED-TTL:PT1H
BEGIN:VTIMEZONE
TZID:UTC
BEGIN:STANDARD
TZOFFSETFROM:+0000
TZOFFSETTO:+0000
TZNAME:UTC
DTSTART:20220101T000000
END:STANDARD
END:VTIMEZONE
BEGIN:VEVENT
DTSTART;TZID=UTC:20230109T180000
DTEND;TZID=UTC:20230109T193000
DTSTAMP:20260421T063131
CREATED:20221230T143641Z
LAST-MODIFIED:20221230T144416Z
UID:9047-1673287200-1673292600@hurdledynamix.com
SUMMARY:Hurdle Dynamix 5 week Training Block
DESCRIPTION:Each week we will progress through the different technical components of hurdling. \nWe will look at: \n\nFoot contact\nTrail leg action\nLead leg action\nHurdle flight time\nHurdle Mobility\, to name a few.\n\nCome along to develop yourselves as future\, world class stars!
URL:https://hurdledynamix.com/event/hurdle-dynamix-5-week-training-block/
LOCATION:Chelmsford CSAC\, Salerno Way\, Chelmsford\, Essex\, CM1 2EH\, United Kingdom
ORGANIZER;CN="Hurdle Dynamix":MAILTO:info@hurdledynamix.com
END:VEVENT
BEGIN:VEVENT
DTSTART;TZID=UTC:20230109T180000
DTEND;TZID=UTC:20230109T193000
DTSTAMP:20260421T063131
CREATED:20221230T143018Z
LAST-MODIFIED:20221230T144502Z
UID:9040-1673287200-1673292600@hurdledynamix.com
SUMMARY:Hurdle Dynamix Training Session
DESCRIPTION:Each week we will progress through the different technical components of hurdling. \nWe will look at: \n\nFoot contact\nTrail leg action\nLead leg action\nHurdle flight time\nHurdle Mobility\, to name a few.\n\nCome along to develop yourselves as future\, world class stars!
URL:https://hurdledynamix.com/event/hurdle-dynamix-training-session-4/
LOCATION:Chelmsford CSAC\, Salerno Way\, Chelmsford\, Essex\, CM1 2EH\, United Kingdom
ORGANIZER;CN="Hurdle Dynamix":MAILTO:info@hurdledynamix.com
END:VEVENT
BEGIN:VEVENT
DTSTART;TZID=UTC:20221219T180000
DTEND;TZID=UTC:20221219T193000
DTSTAMP:20260421T063131
CREATED:20221203T193951Z
LAST-MODIFIED:20221206T192715Z
UID:9023-1671472800-1671478200@hurdledynamix.com
SUMMARY:Hurdle Dynamix Training Session & Christmas sock competition!
DESCRIPTION:Each week we will progress through the different technical components of hurdling. \nWe will look at: \n\nFoot contact\nTrail leg action\nLead leg action\nHurdle flight time\nHurdle Mobility\, to name a few.\n\nCome along to develop yourselves as future\, world class stars! \nTonight sees our best Christmas socks competition….can’t wait to see them!
URL:https://hurdledynamix.com/event/hurdle-dynamix-training-session-christmas-sock-competition/
LOCATION:Chelmsford CSAC\, Salerno Way\, Chelmsford\, Essex\, CM1 2EH\, United Kingdom
ORGANIZER;CN="Hurdle Dynamix":MAILTO:info@hurdledynamix.com
END:VEVENT
BEGIN:VEVENT
DTSTART;TZID=UTC:20221212T180000
DTEND;TZID=UTC:20221212T193000
DTSTAMP:20260421T063131
CREATED:20221203T193655Z
LAST-MODIFIED:20221203T193655Z
UID:9020-1670868000-1670873400@hurdledynamix.com
SUMMARY:Hurdle Dynamix Training Session
DESCRIPTION:Each week we will progress through the different technical components of hurdling. \nWe will look at: \n\nFoot contact\nTrail leg action\nLead leg action\nHurdle flight time\nHurdle Mobility\, to name a few.\n\nCome along to develop yourselves as future\, world class stars!
URL:https://hurdledynamix.com/event/hurdle-dynamix-training-session-3/
LOCATION:Chelmsford CSAC\, Salerno Way\, Chelmsford\, Essex\, CM1 2EH\, United Kingdom
ORGANIZER;CN="Hurdle Dynamix":MAILTO:info@hurdledynamix.com
END:VEVENT
BEGIN:VEVENT
DTSTART;TZID=UTC:20221205T180000
DTEND;TZID=UTC:20221205T193000
DTSTAMP:20260421T063131
CREATED:20221203T193436Z
LAST-MODIFIED:20221203T193436Z
UID:9017-1670263200-1670268600@hurdledynamix.com
SUMMARY:Hurdle Dynamix Training Session
DESCRIPTION:Each week we will progress through the different technical components of hurdling. \nWe will look at: \n\nFoot contact\nTrail leg action\nLead leg action\nHurdle flight time\nHurdle Mobility\, to name a few.\n\nCome along to develop yourselves as future\, world class stars!
URL:https://hurdledynamix.com/event/hurdle-dynamix-training-session-2/
LOCATION:Chelmsford CSAC\, Salerno Way\, Chelmsford\, Essex\, CM1 2EH\, United Kingdom
ORGANIZER;CN="Hurdle Dynamix":MAILTO:info@hurdledynamix.com
END:VEVENT
BEGIN:VEVENT
DTSTART;TZID=UTC:20221128T180000
DTEND;TZID=UTC:20221128T193000
DTSTAMP:20260421T063131
CREATED:20221121T150446Z
LAST-MODIFIED:20221121T150446Z
UID:9011-1669658400-1669663800@hurdledynamix.com
SUMMARY:Hurdle Dynamix Training Session
DESCRIPTION:Each week we will progress through the different technical components of hurdling. \nWe will look at: \n\nFoot contact\nTrail leg action\nLead leg action\nHurdle flight time\nHurdle Mobility\, to name a few.\n\nCome along to develop yourselves as future\, world class stars!
URL:https://hurdledynamix.com/event/hurdle-dynamix-training-session/
LOCATION:Chelmsford CSAC\, Salerno Way\, Chelmsford\, Essex\, CM1 2EH\, United Kingdom
ORGANIZER;CN="Hurdle Dynamix":MAILTO:info@hurdledynamix.com
END:VEVENT
BEGIN:VEVENT
DTSTART;TZID=UTC:20221121T180000
DTEND;TZID=UTC:20221121T193000
DTSTAMP:20260421T063131
CREATED:20221113T200025Z
LAST-MODIFIED:20221113T200025Z
UID:8962-1669053600-1669059000@hurdledynamix.com
SUMMARY:Hurdle Dynamix Session
DESCRIPTION:Following on from our taster session\, each week we will progress through the different technical components of hurdling. \nWe will look at: \n\nFoot contact\nTrail leg action\nLead leg action\nHurdle flight time\nHurdle Mobility\, to name a few.\n\nCome along to develop yourselves as future\, world class stars!
URL:https://hurdledynamix.com/event/hurdle-dynamix-session-2/
LOCATION:Chelmsford CSAC\, Salerno Way\, Chelmsford\, Essex\, CM1 2EH\, United Kingdom
ORGANIZER;CN="Hurdle Dynamix":MAILTO:info@hurdledynamix.com
END:VEVENT
BEGIN:VEVENT
DTSTART;TZID=UTC:20221114T180000
DTEND;TZID=UTC:20221114T193000
DTSTAMP:20260421T063131
CREATED:20221106T153215Z
LAST-MODIFIED:20221110T120436Z
UID:8943-1668448800-1668454200@hurdledynamix.com
SUMMARY:HURDLE DYNAMIX SESSION
DESCRIPTION:Following on from our taster session\, each week we will progress through the different technical components of hurdling. \nWe will look at: \n\nFoot contact\nTrail leg action\nLead leg action\nHurdle flight time\nHurdle Mobility\, to name a few.\n\nCome along to develop yourselves as future\, world class stars!
URL:https://hurdledynamix.com/event/hurdle-dynamix-session/
LOCATION:Chelmsford CSAC\, Salerno Way\, Chelmsford\, Essex\, CM1 2EH\, United Kingdom
ORGANIZER;CN="Hurdle Dynamix":MAILTO:info@hurdledynamix.com
END:VEVENT
BEGIN:VEVENT
DTSTART;TZID=UTC:20221114T180000
DTEND;TZID=UTC:20221114T193000
DTSTAMP:20260421T063131
CREATED:20221106T153044Z
LAST-MODIFIED:20221110T120750Z
UID:8939-1668448800-1668454200@hurdledynamix.com
SUMMARY:HURDLE DYNAMIX 6 WEEK TRAINING BLOCK
DESCRIPTION:Following on from our taster session\, each week we will progress through the different technical components of hurdling. \nWe will look at: \n\nFoot contact\nTrail leg action\nLead leg action\nHurdle flight time\nHurdle Mobility\, to name a few.\n\nCome along to develop yourselves as future\, world class stars!
URL:https://hurdledynamix.com/event/hurdle-dynamix-6-week-training-block/
LOCATION:Chelmsford CSAC\, Salerno Way\, Chelmsford\, Essex\, CM1 2EH\, United Kingdom
ORGANIZER;CN="Hurdle Dynamix":MAILTO:info@hurdledynamix.com
END:VEVENT
BEGIN:VEVENT
DTSTART;TZID=UTC:20221107T180000
DTEND;TZID=UTC:20221107T190000
DTSTAMP:20260421T063131
CREATED:20221101T100834Z
LAST-MODIFIED:20221101T101415Z
UID:8885-1667844000-1667847600@hurdledynamix.com
SUMMARY:Hurdle Dynamix Taster Session
DESCRIPTION:Over the years there has always been an abundance of talent in sprint hurdles in the younger age groups but something happens as they progress through to U20’s and we loose a considerable amount. \nI want to change that! \nI want to give athletes the best opportunity they have to reach for the stars and to achieve those targets that they set themselves every season. \nWhether your targets are to win a medal at the county championships\, make a final at the English School or be selected to represent Great Britain\, goal setting is such an important part of training and a coach and athlete being on the same page is just as important. \nHurdle Dynamix starts as a taster session but I want it to become a regular Monday night training session that supplements the existing training you are doing with your respective coaches and builds towards achieving those targets. \nI will bring event specific hurdle training\, work on flexibility and mobility\, increase your speed and make you a more rounded athlete.
URL:https://hurdledynamix.com/event/hurdle-dynamix-taster-session/
LOCATION:Chelmsford CSAC\, Salerno Way\, Chelmsford\, Essex\, CM1 2EH\, United Kingdom
ATTACH;FMTTYPE=image/png:https://hurdledynamix.com/wp-content/uploads/2022/10/L1060629.png
ORGANIZER;CN="Hurdle Dynamix":MAILTO:info@hurdledynamix.com
END:VEVENT
END:VCALENDAR