BEGIN:VCALENDAR
VERSION:2.0
PRODID:-//Hurdle Dynamix - ECPv6.7.1//NONSGML v1.0//EN
CALSCALE:GREGORIAN
METHOD:PUBLISH
X-WR-CALNAME:Hurdle Dynamix
X-ORIGINAL-URL:https://hurdledynamix.com
X-WR-CALDESC:Events for Hurdle Dynamix
REFRESH-INTERVAL;VALUE=DURATION:PT1H
X-Robots-Tag:noindex
X-PUBLISHED-TTL:PT1H
BEGIN:VTIMEZONE
TZID:Europe/London
BEGIN:DAYLIGHT
TZOFFSETFROM:+0000
TZOFFSETTO:+0100
TZNAME:BST
DTSTART:20250330T010000
END:DAYLIGHT
BEGIN:STANDARD
TZOFFSETFROM:+0100
TZOFFSETTO:+0000
TZNAME:GMT
DTSTART:20251026T010000
END:STANDARD
END:VTIMEZONE
BEGIN:VEVENT
DTSTART;TZID=Europe/London:20251006T180000
DTEND;TZID=Europe/London:20251006T193000
DTSTAMP:20260420T174739
CREATED:20250922T145342Z
LAST-MODIFIED:20250930T075306Z
UID:10601-1759773600-1759779000@hurdledynamix.com
SUMMARY:Hurdle Dynamix Training Session - 10 week Block Booking
DESCRIPTION:Join us for all things hurdling! \nNote: No Session 8th December
URL:https://hurdledynamix.com/event/hurdle-dynamix-training-session-11-week-block-booking/
LOCATION:Chelmsford CSAC\, Salerno Way\, Chelmsford\, Essex\, CM1 2EH\, United Kingdom
ORGANIZER;CN="Hurdle Dynamix":MAILTO:info@hurdledynamix.com
END:VEVENT
BEGIN:VEVENT
DTSTART;TZID=Europe/London:20251006T180000
DTEND;TZID=Europe/London:20251006T193000
DTSTAMP:20260420T174739
CREATED:20250922T144831Z
LAST-MODIFIED:20250922T144831Z
UID:10598-1759773600-1759779000@hurdledynamix.com
SUMMARY:Hurdle Dynamix Training Session
DESCRIPTION:Join us for all things hurdling!
URL:https://hurdledynamix.com/event/hurdle-dynamix-training-session-90/
LOCATION:Chelmsford CSAC\, Salerno Way\, Chelmsford\, Essex\, CM1 2EH\, United Kingdom
ORGANIZER;CN="Hurdle Dynamix":MAILTO:info@hurdledynamix.com
END:VEVENT
BEGIN:VEVENT
DTSTART;TZID=Europe/London:20250915T180000
DTEND;TZID=Europe/London:20250915T193000
DTSTAMP:20260420T174739
CREATED:20250821T121531Z
LAST-MODIFIED:20250821T121531Z
UID:10524-1757959200-1757964600@hurdledynamix.com
SUMMARY:Hurdle Dynamix Training Session
DESCRIPTION:Come and join us for all things hurdling!
URL:https://hurdledynamix.com/event/hurdle-dynamix-training-session-89/
LOCATION:Chelmsford CSAC\, Salerno Way\, Chelmsford\, Essex\, CM1 2EH\, United Kingdom
ORGANIZER;CN="Hurdle Dynamix":MAILTO:info@hurdledynamix.com
END:VEVENT
BEGIN:VEVENT
DTSTART;TZID=Europe/London:20250908T180000
DTEND;TZID=Europe/London:20250908T193000
DTSTAMP:20260420T174739
CREATED:20250821T121256Z
LAST-MODIFIED:20250821T121256Z
UID:10521-1757354400-1757359800@hurdledynamix.com
SUMMARY:Hurdle Dynamic Training Session
DESCRIPTION:Come and join us for all things hurdling!
URL:https://hurdledynamix.com/event/hurdle-dynamic-training-session/
LOCATION:Chelmsford CSAC\, Salerno Way\, Chelmsford\, Essex\, CM1 2EH\, United Kingdom
ORGANIZER;CN="Hurdle Dynamix":MAILTO:info@hurdledynamix.com
END:VEVENT
BEGIN:VEVENT
DTSTART;TZID=Europe/London:20250825T180000
DTEND;TZID=Europe/London:20250825T193000
DTSTAMP:20260420T174739
CREATED:20250821T120815Z
LAST-MODIFIED:20250821T120815Z
UID:10516-1756144800-1756150200@hurdledynamix.com
SUMMARY:No Session - Bank Holiday
DESCRIPTION:
URL:https://hurdledynamix.com/event/no-session-bank-holiday-3/
LOCATION:Essex
END:VEVENT
BEGIN:VEVENT
DTSTART;TZID=Europe/London:20250822T130000
DTEND;TZID=Europe/London:20250822T160000
DTSTAMP:20260420T174739
CREATED:20250724T112011Z
LAST-MODIFIED:20250724T112011Z
UID:10431-1755867600-1755878400@hurdledynamix.com
SUMMARY:Summer Hurdles Camp
DESCRIPTION:Come and hone your skills as we get technical with drills\, starts and finishing strong. \n\nWe’ll look at: \n\nFoot contact\nArm/leg sync\nSpeed between the hurdles and lots more!
URL:https://hurdledynamix.com/event/summer-hurdles-camp-2/
LOCATION:Chelmsford CSAC\, Salerno Way\, Chelmsford\, Essex\, CM1 2EH\, United Kingdom
ORGANIZER;CN="Hurdle Dynamix":MAILTO:info@hurdledynamix.com
END:VEVENT
BEGIN:VEVENT
DTSTART;TZID=Europe/London:20250818T180000
DTEND;TZID=Europe/London:20250818T193000
DTSTAMP:20260420T174739
CREATED:20250724T112333Z
LAST-MODIFIED:20250724T112333Z
UID:10437-1755540000-1755545400@hurdledynamix.com
SUMMARY:Hurdle Dynamix Training Session
DESCRIPTION:Come and join us for all things hurdles!
URL:https://hurdledynamix.com/event/hurdle-dynamix-training-session-87/
LOCATION:Chelmsford CSAC\, Salerno Way\, Chelmsford\, Essex\, CM1 2EH\, United Kingdom
ORGANIZER;CN="Hurdle Dynamix":MAILTO:info@hurdledynamix.com
END:VEVENT
BEGIN:VEVENT
DTSTART;TZID=Europe/London:20250813T130000
DTEND;TZID=Europe/London:20250813T160000
DTSTAMP:20260420T174739
CREATED:20250724T111758Z
LAST-MODIFIED:20250724T111758Z
UID:10428-1755090000-1755100800@hurdledynamix.com
SUMMARY:Summer Hurdles Camp
DESCRIPTION:Come and hone your skills as we get technical with drills\, starts and finishing strong. \nWe’ll look at: \n\nFoot contact\nArm/leg sync\nSpeed between the hurdles and lots more!
URL:https://hurdledynamix.com/event/summer-hurdles-camp/
LOCATION:Chelmsford CSAC\, Salerno Way\, Chelmsford\, Essex\, CM1 2EH\, United Kingdom
ORGANIZER;CN="Hurdle Dynamix":MAILTO:info@hurdledynamix.com
END:VEVENT
BEGIN:VEVENT
DTSTART;TZID=Europe/London:20250728T180000
DTEND;TZID=Europe/London:20250728T193000
DTSTAMP:20260420T174739
CREATED:20250724T112157Z
LAST-MODIFIED:20250724T112157Z
UID:10434-1753725600-1753731000@hurdledynamix.com
SUMMARY:Hurdle Dynamix Training Session
DESCRIPTION:Come and enjoy all things hurdles!
URL:https://hurdledynamix.com/event/hurdle-dynamix-training-session-86/
LOCATION:Chelmsford CSAC\, Salerno Way\, Chelmsford\, Essex\, CM1 2EH\, United Kingdom
ORGANIZER;CN="Hurdle Dynamix":MAILTO:info@hurdledynamix.com
END:VEVENT
BEGIN:VEVENT
DTSTART;TZID=Europe/London:20250721T180000
DTEND;TZID=Europe/London:20250721T193000
DTSTAMP:20260420T174739
CREATED:20250714T063856Z
LAST-MODIFIED:20250714T063856Z
UID:10406-1753120800-1753126200@hurdledynamix.com
SUMMARY:Hurdle Dynamix Training Session
DESCRIPTION:Just us for all things hurdling.
URL:https://hurdledynamix.com/event/hurdle-dynamix-training-session-85/
LOCATION:Chelmsford CSAC\, Salerno Way\, Chelmsford\, Essex\, CM1 2EH\, United Kingdom
ORGANIZER;CN="Hurdle Dynamix":MAILTO:info@hurdledynamix.com
END:VEVENT
BEGIN:VEVENT
DTSTART;TZID=Europe/London:20250714T180000
DTEND;TZID=Europe/London:20250714T193000
DTSTAMP:20260420T174739
CREATED:20250714T061540Z
LAST-MODIFIED:20250714T061540Z
UID:10403-1752516000-1752521400@hurdledynamix.com
SUMMARY:Hurdle Dynamix Training Session
DESCRIPTION:Just us for all things hurdling.
URL:https://hurdledynamix.com/event/hurdle-dynamix-training-session-84/
LOCATION:Chelmsford CSAC\, Salerno Way\, Chelmsford\, Essex\, CM1 2EH\, United Kingdom
ORGANIZER;CN="Hurdle Dynamix":MAILTO:info@hurdledynamix.com
END:VEVENT
BEGIN:VEVENT
DTSTART;TZID=Europe/London:20250707T180000
DTEND;TZID=Europe/London:20250707T193000
DTSTAMP:20260420T174739
CREATED:20250623T064734Z
LAST-MODIFIED:20250623T064734Z
UID:10387-1751911200-1751916600@hurdledynamix.com
SUMMARY:Hurdles Dynamix Training Session
DESCRIPTION:Join us for all things hurdles!
URL:https://hurdledynamix.com/event/hurdles-dynamix-training-session/
LOCATION:Chelmsford CSAC\, Salerno Way\, Chelmsford\, Essex\, CM1 2EH\, United Kingdom
ORGANIZER;CN="Hurdle Dynamix":MAILTO:info@hurdledynamix.com
END:VEVENT
BEGIN:VEVENT
DTSTART;TZID=Europe/London:20250630T180000
DTEND;TZID=Europe/London:20250630T193000
DTSTAMP:20260420T174739
CREATED:20250623T064533Z
LAST-MODIFIED:20250623T064533Z
UID:10384-1751306400-1751311800@hurdledynamix.com
SUMMARY:Hurdle Dynamix Training Session
DESCRIPTION:Join us for all things hurdles!
URL:https://hurdledynamix.com/event/hurdle-dynamix-training-session-83/
LOCATION:Chelmsford CSAC\, Salerno Way\, Chelmsford\, Essex\, CM1 2EH\, United Kingdom
ORGANIZER;CN="Hurdle Dynamix":MAILTO:info@hurdledynamix.com
END:VEVENT
BEGIN:VEVENT
DTSTART;TZID=Europe/London:20250623T180000
DTEND;TZID=Europe/London:20250623T193000
DTSTAMP:20260420T174739
CREATED:20250423T161428Z
LAST-MODIFIED:20250423T161531Z
UID:10331-1750701600-1750707000@hurdledynamix.com
SUMMARY:Hurdle Dynamix Training Session
DESCRIPTION:Join us for all things hurdling!
URL:https://hurdledynamix.com/event/hurdle-dynamix-training-session-82/
LOCATION:Chelmsford CSAC\, Salerno Way\, Chelmsford\, Essex\, CM1 2EH\, United Kingdom
ORGANIZER;CN="Hurdle Dynamix":MAILTO:info@hurdledynamix.com
END:VEVENT
BEGIN:VEVENT
DTSTART;TZID=Europe/London:20250616T180000
DTEND;TZID=Europe/London:20250616T193000
DTSTAMP:20260420T174739
CREATED:20250423T161037Z
LAST-MODIFIED:20250423T161037Z
UID:10328-1750096800-1750102200@hurdledynamix.com
SUMMARY:Hurdle Dynamix Training Session
DESCRIPTION:Join us for all things hurdling!
URL:https://hurdledynamix.com/event/hurdle-dynamix-training-session-81/
LOCATION:Chelmsford CSAC\, Salerno Way\, Chelmsford\, Essex\, CM1 2EH\, United Kingdom
ORGANIZER;CN="Hurdle Dynamix":MAILTO:info@hurdledynamix.com
END:VEVENT
BEGIN:VEVENT
DTSTART;TZID=Europe/London:20250609T180000
DTEND;TZID=Europe/London:20250609T193000
DTSTAMP:20260420T174739
CREATED:20250423T160928Z
LAST-MODIFIED:20250423T160928Z
UID:10325-1749492000-1749497400@hurdledynamix.com
SUMMARY:Hurdle Dynamix Training Session
DESCRIPTION:Join us for all things hurdling!
URL:https://hurdledynamix.com/event/hurdle-dynamix-training-session-80/
LOCATION:Chelmsford CSAC\, Salerno Way\, Chelmsford\, Essex\, CM1 2EH\, United Kingdom
ORGANIZER;CN="Hurdle Dynamix":MAILTO:info@hurdledynamix.com
END:VEVENT
BEGIN:VEVENT
DTSTART;TZID=Europe/London:20250602T180000
DTEND;TZID=Europe/London:20250602T193000
DTSTAMP:20260420T174740
CREATED:20250423T160741Z
LAST-MODIFIED:20250423T160741Z
UID:10322-1748887200-1748892600@hurdledynamix.com
SUMMARY:Hurdle Dynamix Training Session
DESCRIPTION:Join us for all things hurdling!
URL:https://hurdledynamix.com/event/hurdle-dynamix-training-session-79/
LOCATION:Chelmsford CSAC\, Salerno Way\, Chelmsford\, Essex\, CM1 2EH\, United Kingdom
ORGANIZER;CN="Hurdle Dynamix":MAILTO:info@hurdledynamix.com
END:VEVENT
BEGIN:VEVENT
DTSTART;TZID=Europe/London:20250526T180000
DTEND;TZID=Europe/London:20250526T193000
DTSTAMP:20260420T174740
CREATED:20250423T160601Z
LAST-MODIFIED:20250423T160601Z
UID:10320-1748282400-1748287800@hurdledynamix.com
SUMMARY:No Session - Bank Holiday
DESCRIPTION:
URL:https://hurdledynamix.com/event/no-session-bank-holiday-2/
LOCATION:Essex
END:VEVENT
BEGIN:VEVENT
DTSTART;TZID=Europe/London:20250519T180000
DTEND;TZID=Europe/London:20250519T193000
DTSTAMP:20260420T174740
CREATED:20250423T160200Z
LAST-MODIFIED:20250423T160200Z
UID:10314-1747677600-1747683000@hurdledynamix.com
SUMMARY:Hurdle Dynamix Training Session
DESCRIPTION:Join us for all things hurdling!
URL:https://hurdledynamix.com/event/hurdle-dynamix-training-session-77/
LOCATION:Chelmsford CSAC\, Salerno Way\, Chelmsford\, Essex\, CM1 2EH\, United Kingdom
ORGANIZER;CN="Hurdle Dynamix":MAILTO:info@hurdledynamix.com
END:VEVENT
BEGIN:VEVENT
DTSTART;TZID=Europe/London:20250512T180000
DTEND;TZID=Europe/London:20250512T193000
DTSTAMP:20260420T174740
CREATED:20250423T160500Z
LAST-MODIFIED:20250423T160500Z
UID:10317-1747072800-1747078200@hurdledynamix.com
SUMMARY:Hurdle Dynamix Training Session
DESCRIPTION:Join us for all things hurdling!
URL:https://hurdledynamix.com/event/hurdle-dynamix-training-session-78/
LOCATION:Chelmsford CSAC\, Salerno Way\, Chelmsford\, Essex\, CM1 2EH\, United Kingdom
ORGANIZER;CN="Hurdle Dynamix":MAILTO:info@hurdledynamix.com
END:VEVENT
BEGIN:VEVENT
DTSTART;TZID=Europe/London:20250505T180000
DTEND;TZID=Europe/London:20250505T193000
DTSTAMP:20260420T174740
CREATED:20250423T123233Z
LAST-MODIFIED:20250423T123324Z
UID:10312-1746468000-1746473400@hurdledynamix.com
SUMMARY:No Session - Bank Holiday
DESCRIPTION:
URL:https://hurdledynamix.com/event/no-session-bank-holiday/
LOCATION:Essex
END:VEVENT
BEGIN:VEVENT
DTSTART;TZID=Europe/London:20250428T180000
DTEND;TZID=Europe/London:20250428T193000
DTSTAMP:20260420T174740
CREATED:20250423T123135Z
LAST-MODIFIED:20250423T160330Z
UID:10309-1745863200-1745868600@hurdledynamix.com
SUMMARY:Hurdle Dynamix 11 week block booking
DESCRIPTION:Join us for all things hurdling!
URL:https://hurdledynamix.com/event/hurdle-dynamix-11-week-block-booking-2/
LOCATION:Chelmsford CSAC\, Salerno Way\, Chelmsford\, Essex\, CM1 2EH\, United Kingdom
ORGANIZER;CN="Hurdle Dynamix":MAILTO:info@hurdledynamix.com
END:VEVENT
BEGIN:VEVENT
DTSTART;TZID=Europe/London:20250428T180000
DTEND;TZID=Europe/London:20250428T193000
DTSTAMP:20260420T174740
CREATED:20250423T122813Z
LAST-MODIFIED:20250423T122813Z
UID:10306-1745863200-1745868600@hurdledynamix.com
SUMMARY:Hurdle Dynamix Training Session
DESCRIPTION:Join us for all this hurdling!
URL:https://hurdledynamix.com/event/hurdle-dynamix-training-session-76/
LOCATION:Chelmsford CSAC\, Salerno Way\, Chelmsford\, Essex\, CM1 2EH\, United Kingdom
ORGANIZER;CN="Hurdle Dynamix":MAILTO:info@hurdledynamix.com
END:VEVENT
BEGIN:VEVENT
DTSTART;TZID=Europe/London:20250417T130000
DTEND;TZID=Europe/London:20250417T160000
DTSTAMP:20260420T174740
CREATED:20250319T092107Z
LAST-MODIFIED:20250319T092107Z
UID:10222-1744894800-1744905600@hurdledynamix.com
SUMMARY:Easter Hurdles Camp
DESCRIPTION:Come and hone your skills and prepare for the forthcoming season as we get technical with drills\, starts and finishing strong.
URL:https://hurdledynamix.com/event/easter-hurdles-camp/
LOCATION:Chelmsford CSAC\, Salerno Way\, Chelmsford\, Essex\, CM1 2EH\, United Kingdom
ORGANIZER;CN="Hurdle Dynamix":MAILTO:info@hurdledynamix.com
END:VEVENT
BEGIN:VEVENT
DTSTART;TZID=Europe/London:20250414T180000
DTEND;TZID=Europe/London:20250414T193000
DTSTAMP:20260420T174740
CREATED:20250105T165209Z
LAST-MODIFIED:20250105T165209Z
UID:10093-1744653600-1744659000@hurdledynamix.com
SUMMARY:Hurdle Dynamix Training Session
DESCRIPTION:Join us for technical sessions\, focusing on different components of hurdling.
URL:https://hurdledynamix.com/event/hurdle-dynamix-training-session-75/
LOCATION:Chelmsford CSAC\, Salerno Way\, Chelmsford\, Essex\, CM1 2EH\, United Kingdom
ORGANIZER;CN="Hurdle Dynamix":MAILTO:info@hurdledynamix.com
END:VEVENT
BEGIN:VEVENT
DTSTART;TZID=Europe/London:20250407T180000
DTEND;TZID=Europe/London:20250407T193000
DTSTAMP:20260420T174740
CREATED:20250105T164942Z
LAST-MODIFIED:20250105T164942Z
UID:10090-1744048800-1744054200@hurdledynamix.com
SUMMARY:Hurdle Dynamix Training Session
DESCRIPTION:Join us for technical sessions\, focusing on different components of hurdling.
URL:https://hurdledynamix.com/event/hurdle-dynamix-training-session-74/
LOCATION:Chelmsford CSAC\, Salerno Way\, Chelmsford\, Essex\, CM1 2EH\, United Kingdom
ORGANIZER;CN="Hurdle Dynamix":MAILTO:info@hurdledynamix.com
END:VEVENT
BEGIN:VEVENT
DTSTART;TZID=Europe/London:20250331T180000
DTEND;TZID=Europe/London:20250331T193000
DTSTAMP:20260420T174740
CREATED:20250105T164714Z
LAST-MODIFIED:20250105T164714Z
UID:10087-1743444000-1743449400@hurdledynamix.com
SUMMARY:Hurdle Dynamix Training Session
DESCRIPTION:Join us for technical sessions\, focusing on different components of hurdling.
URL:https://hurdledynamix.com/event/hurdle-dynamix-training-session-73/
LOCATION:Chelmsford CSAC\, Salerno Way\, Chelmsford\, Essex\, CM1 2EH\, United Kingdom
ORGANIZER;CN="Hurdle Dynamix":MAILTO:info@hurdledynamix.com
END:VEVENT
BEGIN:VEVENT
DTSTART;TZID=Europe/London:20250324T180000
DTEND;TZID=Europe/London:20250324T193000
DTSTAMP:20260420T174740
CREATED:20250105T164532Z
LAST-MODIFIED:20250105T164532Z
UID:10084-1742839200-1742844600@hurdledynamix.com
SUMMARY:Hurdle Dynamix Training Session
DESCRIPTION:Join us for technical sessions\, focusing on different components of hurdling.
URL:https://hurdledynamix.com/event/hurdle-dynamix-training-session-72/
LOCATION:Chelmsford CSAC\, Salerno Way\, Chelmsford\, Essex\, CM1 2EH\, United Kingdom
ORGANIZER;CN="Hurdle Dynamix":MAILTO:info@hurdledynamix.com
END:VEVENT
BEGIN:VEVENT
DTSTART;TZID=Europe/London:20250317T180000
DTEND;TZID=Europe/London:20250317T193000
DTSTAMP:20260420T174740
CREATED:20250105T164018Z
LAST-MODIFIED:20250105T164018Z
UID:10081-1742234400-1742239800@hurdledynamix.com
SUMMARY:Hurdle Dynamix Training Session
DESCRIPTION:Join us for technical sessions\, focusing on different components of hurdling.
URL:https://hurdledynamix.com/event/hurdle-dynamix-training-session-71/
LOCATION:Chelmsford CSAC\, Salerno Way\, Chelmsford\, Essex\, CM1 2EH\, United Kingdom
ORGANIZER;CN="Hurdle Dynamix":MAILTO:info@hurdledynamix.com
END:VEVENT
BEGIN:VEVENT
DTSTART;TZID=Europe/London:20250310T180000
DTEND;TZID=Europe/London:20250310T193000
DTSTAMP:20260420T174740
CREATED:20250105T163752Z
LAST-MODIFIED:20250105T163752Z
UID:10078-1741629600-1741635000@hurdledynamix.com
SUMMARY:Hurdle Dynamix Training Session
DESCRIPTION:Join us for technical sessions\, focusing on different components of hurdling.
URL:https://hurdledynamix.com/event/hurdle-dynamix-training-session-70/
LOCATION:Chelmsford CSAC\, Salerno Way\, Chelmsford\, Essex\, CM1 2EH\, United Kingdom
ORGANIZER;CN="Hurdle Dynamix":MAILTO:info@hurdledynamix.com
END:VEVENT
END:VCALENDAR